BEGIN:VCALENDAR
VERSION:2.0
PRODID:-//Graines d&#039;Avenir - ECPv6.10.3//NONSGML v1.0//EN
CALSCALE:GREGORIAN
METHOD:PUBLISH
X-WR-CALNAME:Graines d&#039;Avenir
X-ORIGINAL-URL:https://www.grainesdavenir.ch
X-WR-CALDESC:Évènements pour Graines d&#039;Avenir
REFRESH-INTERVAL;VALUE=DURATION:PT1H
X-Robots-Tag:noindex
X-PUBLISHED-TTL:PT1H
BEGIN:VTIMEZONE
TZID:Europe/Paris
BEGIN:DAYLIGHT
TZOFFSETFROM:+0100
TZOFFSETTO:+0200
TZNAME:CEST
DTSTART:20240331T010000
END:DAYLIGHT
BEGIN:STANDARD
TZOFFSETFROM:+0200
TZOFFSETTO:+0100
TZNAME:CET
DTSTART:20241027T010000
END:STANDARD
END:VTIMEZONE
BEGIN:VEVENT
DTSTART;VALUE=DATE:20241102
DTEND;VALUE=DATE:20241103
DTSTAMP:20260426T013948
CREATED:20240907T145854Z
LAST-MODIFIED:20240907T145854Z
UID:5614-1730505600-1730591999@www.grainesdavenir.ch
SUMMARY:ELLAO coaching - Journée de l'imagination en famille
DESCRIPTION:Autre organisatrice -> consultez son site internet pour les dernières infos!\n  \n5ème journée de l’imagination\nle 2 novembre\, différentes tranches horaires à choix -> voir sur le flyer ci-dessous pour les inscriptions. \n  \nVenez vivre une expérience enrichissante en famille et partagez des moments de créativité avec votre enfant ou vos enfants. \nJeux\, rires\, partages\, créations individuelles et communes pour stimuler la spontanéité et laisser libre court à l’imagination de toute la famille! \nAppréciez les bienfaits de la créativité en famille et profitez de l’occasion pour créer ensemble de merveilleux souvenirs!
URL:https://www.grainesdavenir.ch/event/ellao-coaching-journee-de-limagination-en-famille/
CATEGORIES:Ateliers,Autre organisateur
END:VEVENT
BEGIN:VEVENT
DTSTART;VALUE=DATE:20241123
DTEND;VALUE=DATE:20241125
DTSTAMP:20260426T013948
CREATED:20240907T143953Z
LAST-MODIFIED:20240907T151935Z
UID:5607-1732320000-1732492799@www.grainesdavenir.ch
SUMMARY:Charlotte Fontaine - Fabrication de tambour
DESCRIPTION:Autre organisateur -> voir le site de l’organisatrice pour les dernières infos!\n  \natelier fabrication de tambour chamanique\n\n\nsamedi 23 novembre de 9h30-21h et dimanche 24 novembre de 9h30-14h\nCréer son propre tambour est une expérience profonde\, unique\, transformatrice. Les mains et les esprits se rencontrent dans la matière pour la naissance d’un objet de rituel sacré.\nLe temps de travail sera rythmé par des voyages au son du tambour pour accompagner le processus : connecter ses intentions\, tisser son lien avec l’animal\, le bois\, le tambour\, … \nLieu: 1654 Cerniat (Gruyère)\nPrix: 500.- au total (260.- pour l’accompagnement + 240.- pour le matériel) \nInclus: cercle en hêtre\, peau\, mailloche et matériel nécessaire à la fabrication / café\, thé et pauses.\nNon inclus : hébergement\, repas (pic-nique) \nDifférentes peaux et dimensions à choix. \nInformations complémentaires: \n079 332 23 92 / http://charlottefontaine.ch
URL:https://www.grainesdavenir.ch/event/charlotte-fontaine-fabrication-de-tambour/
LOCATION:Cerniat
CATEGORIES:Ateliers,Autre organisateur,Transition intérieure
END:VEVENT
END:VCALENDAR