BEGIN:VCALENDAR
VERSION:2.0
PRODID:-//Graines d&#039;Avenir - ECPv6.10.3//NONSGML v1.0//EN
CALSCALE:GREGORIAN
METHOD:PUBLISH
X-WR-CALNAME:Graines d&#039;Avenir
X-ORIGINAL-URL:https://www.grainesdavenir.ch
X-WR-CALDESC:Évènements pour Graines d&#039;Avenir
REFRESH-INTERVAL;VALUE=DURATION:PT1H
X-Robots-Tag:noindex
X-PUBLISHED-TTL:PT1H
BEGIN:VTIMEZONE
TZID:Europe/Paris
BEGIN:DAYLIGHT
TZOFFSETFROM:+0100
TZOFFSETTO:+0200
TZNAME:CEST
DTSTART:20250330T010000
END:DAYLIGHT
BEGIN:STANDARD
TZOFFSETFROM:+0200
TZOFFSETTO:+0100
TZNAME:CET
DTSTART:20251026T010000
END:STANDARD
END:VTIMEZONE
BEGIN:VEVENT
DTSTART;TZID=Europe/Paris:20250111T100000
DTEND;TZID=Europe/Paris:20250111T160000
DTSTAMP:20260425T222958
CREATED:20241215T140026Z
LAST-MODIFIED:20241215T152410Z
UID:5838-1736589600-1736611200@www.grainesdavenir.ch
SUMMARY:SEM Jogne - Journée de la gratuité 2025
DESCRIPTION:Autre organisateur\nEn attendant le prochain Marché gratuit de Graines d’avenir le 5 avril 2025 à l’Institut Ste-Croix\, rendez-vous au restaurant de la Berra à Cerniat pour la Journée de la gratuité du SEM – SEL en mouvement de la Jogne. \nVide-dressing\, service couture\, troc des enfants et matériel d’hiver sont prévus\, ainsi que quelques animations. \nDons des objets la veille au soir ou le jour-même (infos sur le flyer) \n 
URL:https://www.grainesdavenir.ch/event/sem-jogne-journee-de-la-gratuite-2025/
LOCATION:Cerniat
CATEGORIES:Ateliers,Autre organisateur,Marché Gratuit
END:VEVENT
BEGIN:VEVENT
DTSTART;TZID=Europe/Paris:20250115T180000
DTEND;TZID=Europe/Paris:20250115T210000
DTSTAMP:20260425T222958
CREATED:20241215T153418Z
LAST-MODIFIED:20241215T153418Z
UID:5843-1736964000-1736974800@www.grainesdavenir.ch
SUMMARY:Egrainage - Tri de graines au Navè à Corbières
DESCRIPTION:Le groupe Graines et Biodiversité prévoit de faire quelques rencontres cette fin d’automne et hiver (on table sur 2 à 3 rencontres) pour trier nos graines ensemble autour d’un thé et d’un repas partagé convivial. La prochaine aura lieu le \nmercredi 15 janvier à Corbières\, la Maison du Navè\, route du Vanel 115\, entre 18h et …\nNous avons plein de graines à trier ensemble\, vous pouvez venir les mains vides ou avec vos portes-graines. Aucune connaissance préalable requise et venir cette fois ne vous engage pas pour toutes les autres\, l’idée c’est de partager un moment convivial et simple autour des graines ensemble. \nParce que trier les graines c’est quand même chouette à faire\, à plusieurs encore plus\, et cela nous permet de renouer avec ces traditions perdues (comment nos Ancêtres occupaient les longues soirées d’automne et d’hiver avant la TV…)\, le tout en simplicité. \nEgrainage du 4 décembre au Navè – En pleine concentration\nEgrainage du 4 décembre au Navè – Agape\nEgrainage du 4 décembre au Navè – Focaccia\n 
URL:https://www.grainesdavenir.ch/event/egrainage-tri-de-graines-au-nave-a-corbieres/
LOCATION:Maison du Navè\, Route du Vanel 115\, Corbières\, 1647
CATEGORIES:Ateliers,Autonomie alimentaire
END:VEVENT
END:VCALENDAR