BEGIN:VCALENDAR
VERSION:2.0
PRODID:-//Graines d&#039;Avenir - ECPv6.10.3//NONSGML v1.0//EN
CALSCALE:GREGORIAN
METHOD:PUBLISH
X-ORIGINAL-URL:https://www.grainesdavenir.ch
X-WR-CALDESC:Évènements pour Graines d&#039;Avenir
REFRESH-INTERVAL;VALUE=DURATION:PT1H
X-Robots-Tag:noindex
X-PUBLISHED-TTL:PT1H
BEGIN:VTIMEZONE
TZID:Europe/Paris
BEGIN:DAYLIGHT
TZOFFSETFROM:+0100
TZOFFSETTO:+0200
TZNAME:CEST
DTSTART:20250330T010000
END:DAYLIGHT
BEGIN:STANDARD
TZOFFSETFROM:+0200
TZOFFSETTO:+0100
TZNAME:CET
DTSTART:20251026T010000
END:STANDARD
END:VTIMEZONE
BEGIN:VEVENT
DTSTART;TZID=Europe/Paris:20250212T190000
DTEND;TZID=Europe/Paris:20250212T200000
DTSTAMP:20260425T204954
CREATED:20241124T094644Z
LAST-MODIFIED:20250126T175423Z
UID:5752-1739386800-1739390400@www.grainesdavenir.ch
SUMMARY:Conférence - Apprendre à faire ses graines
DESCRIPTION:Conférence du groupe Graines & Biodiversité\nApprendre à faire ses graines\, une introduction pour toustes\nMercredi 12 février 2025 à 19h00 à la Bibliothèque de Bulle\n\n\n\n\nMais pourquoi faire ses propres graines ? et comment s’y prendre ? et quand le faire ? d’ailleurs\, où est-ce que sont cachées les graines sur mon poireau ? \nCette conférence ouverte à toutes et tous se veut comme une introduction simple pour découvrir le monde de la reproduction des semences dans son jardin. Que vous ayez un terrain vaste\, un jardin\, un pot sur le balcon ou juste de la curiosité pour ce thème\, cette soirée est ouverte à tous les jardiniers et jardinières amateurices ! Une plongée dans l’univers fascinant et merveilleux des plantes et de leur voyage jusqu’à nous. \nUne activité proposée par le groupe Graines & Biodiversité de Graines d’Avenir. \nLa date et l’heure sont encore à confirmer définitivement – ils vous seront donnés dans la prochaine infolettre de Graines d’Avenir
URL:https://www.grainesdavenir.ch/event/conference-apprendre-faire-ses-graines/
LOCATION:Bibliothèque de Bulle\, Rue de la Condémine 25\, Bulle\, Suisse
CATEGORIES:Ateliers,Autonomie alimentaire
END:VEVENT
END:VCALENDAR