BEGIN:VCALENDAR
VERSION:2.0
PRODID:-//Graines d&#039;Avenir - ECPv6.10.3//NONSGML v1.0//EN
CALSCALE:GREGORIAN
METHOD:PUBLISH
X-ORIGINAL-URL:https://www.grainesdavenir.ch
X-WR-CALDESC:Évènements pour Graines d&#039;Avenir
REFRESH-INTERVAL;VALUE=DURATION:PT1H
X-Robots-Tag:noindex
X-PUBLISHED-TTL:PT1H
BEGIN:VTIMEZONE
TZID:Europe/Paris
BEGIN:DAYLIGHT
TZOFFSETFROM:+0100
TZOFFSETTO:+0200
TZNAME:CEST
DTSTART:20250330T010000
END:DAYLIGHT
BEGIN:STANDARD
TZOFFSETFROM:+0200
TZOFFSETTO:+0100
TZNAME:CET
DTSTART:20251026T010000
END:STANDARD
END:VTIMEZONE
BEGIN:VEVENT
DTSTART;TZID=Europe/Paris:20250516T090000
DTEND;TZID=Europe/Paris:20250516T170000
DTSTAMP:20260425T155159
CREATED:20250316T165525Z
LAST-MODIFIED:20250425T165452Z
UID:6044-1747386000-1747414800@www.grainesdavenir.ch
SUMMARY:Pelvi Santé - Bien vivre la transition vers la ménopause
DESCRIPTION:Autre organisateur –> voir leur site internet pour les infos précises\n\nCOMPLET –> contacter les organisatrices pour figurer sur la liste d’attente
URL:https://www.grainesdavenir.ch/event/pelvi-sante-bien-vivre-la-transition-vers-la-menopause/
CATEGORIES:Ateliers,Autre organisateur,Transition intérieure
END:VEVENT
END:VCALENDAR