BEGIN:VCALENDAR
VERSION:2.0
PRODID:-//Graines d&#039;Avenir - ECPv6.10.3//NONSGML v1.0//EN
CALSCALE:GREGORIAN
METHOD:PUBLISH
X-ORIGINAL-URL:https://www.grainesdavenir.ch
X-WR-CALDESC:Évènements pour Graines d&#039;Avenir
REFRESH-INTERVAL;VALUE=DURATION:PT1H
X-Robots-Tag:noindex
X-PUBLISHED-TTL:PT1H
BEGIN:VTIMEZONE
TZID:Europe/Paris
BEGIN:DAYLIGHT
TZOFFSETFROM:+0100
TZOFFSETTO:+0200
TZNAME:CEST
DTSTART:20250330T010000
END:DAYLIGHT
BEGIN:STANDARD
TZOFFSETFROM:+0200
TZOFFSETTO:+0100
TZNAME:CET
DTSTART:20251026T010000
END:STANDARD
END:VTIMEZONE
BEGIN:VEVENT
DTSTART;TZID=Europe/Paris:20250809T100000
DTEND;TZID=Europe/Paris:20250809T170000
DTSTAMP:20260423T122446
CREATED:20250316T164357Z
LAST-MODIFIED:20250703T171226Z
UID:6032-1754733600-1754758800@www.grainesdavenir.ch
SUMMARY:Journée Graines d'avenir au Chapit'O
DESCRIPTION:OUIIIIIIII! La journée Graines d’avenir est de retour au Chapit’O en 2025 !! \nSENS DESSUS DESSOUS\nRendez-vous le samedi 9 août sous le chapiteau de Gommette & Gabatcho pour une journée festive qui titillera tous vos sens. \nProgramme –>> https://www.grainesdavenir.ch/journee-gda-au-chapito-2025/
URL:https://www.grainesdavenir.ch/event/journee-graines-davenir-au-chapito/
LOCATION:Chapit’O\, Rue de la Condémine\, Bulle\, 1630\, Suisse
CATEGORIES:Ateliers,Fêtes
END:VEVENT
END:VCALENDAR