BEGIN:VCALENDAR
VERSION:2.0
PRODID:-//Graines d&#039;Avenir - ECPv6.10.3//NONSGML v1.0//EN
CALSCALE:GREGORIAN
METHOD:PUBLISH
X-WR-CALNAME:Graines d&#039;Avenir
X-ORIGINAL-URL:https://www.grainesdavenir.ch
X-WR-CALDESC:Évènements pour Graines d&#039;Avenir
REFRESH-INTERVAL;VALUE=DURATION:PT1H
X-Robots-Tag:noindex
X-PUBLISHED-TTL:PT1H
BEGIN:VTIMEZONE
TZID:Europe/Paris
BEGIN:DAYLIGHT
TZOFFSETFROM:+0100
TZOFFSETTO:+0200
TZNAME:CEST
DTSTART:20260329T010000
END:DAYLIGHT
BEGIN:STANDARD
TZOFFSETFROM:+0200
TZOFFSETTO:+0100
TZNAME:CET
DTSTART:20261025T010000
END:STANDARD
END:VTIMEZONE
BEGIN:VEVENT
DTSTART;TZID=Europe/Paris:20260509T090000
DTEND;TZID=Europe/Paris:20260509T130000
DTSTAMP:20260422T140257
CREATED:20251022T190444Z
LAST-MODIFIED:20260223T145846Z
UID:6355-1778317200-1778331600@www.grainesdavenir.ch
SUMMARY:Marché Gratuit Printemps 2026
DESCRIPTION:09 mai – 9h00 à 13h00\n\n\n\nEnvie de donner une deuxième vie à vos objets* en bon état mais qui ne vous servent plus? Besoin d’un coup de pouce financier ou de prolonger la vie d’objets encore utilisables? \nPassez faire un tour au marché gratuit de Graines d’avenir : \nsamedi 09 mai 2026\ndans la salle de musique de la Résidence du Marché\, Rue du Marché 10 à Bulle\nCe n’est pas un troc ! Il n’y a pas d’obligation de déposer pour prendre. \nDépôt des objets* de  9h à 11h \nRetrait des objets de 10h à 13h (dès 9h pour ceux et celles qui amènent des objets) \nValeurs défendues par le marché gratuit : partage\, gratuité\, respect\, convivialité\, économie de la fonctionnalité.\n* Objets acceptés : vêtements\, chaussures\, accessoires\, livres & BD\, pour enfant\, femme et homme\nVous déposez vos objets* propres et en bon état puis nous nous occupons du reste ! Vous ne devez ni tenir de tables ni rester ni récupérer vos affaires en fin de journée. \nLes objets qui n’auront pas trouvé preneur en fin de journée seront déposés par nos soins dans les boîtes à livres ou donné à des organisations d’entre-aide.
URL:https://www.grainesdavenir.ch/event/marche-gratuit-printemps-2026/
CATEGORIES:Marché Gratuit
END:VEVENT
END:VCALENDAR