BEGIN:VCALENDAR
VERSION:2.0
PRODID:-//Graines d&#039;Avenir - ECPv6.10.3//NONSGML v1.0//EN
CALSCALE:GREGORIAN
METHOD:PUBLISH
X-WR-CALNAME:Graines d&#039;Avenir
X-ORIGINAL-URL:https://www.grainesdavenir.ch
X-WR-CALDESC:Évènements pour Graines d&#039;Avenir
REFRESH-INTERVAL;VALUE=DURATION:PT1H
X-Robots-Tag:noindex
X-PUBLISHED-TTL:PT1H
BEGIN:VTIMEZONE
TZID:Europe/Paris
BEGIN:DAYLIGHT
TZOFFSETFROM:+0100
TZOFFSETTO:+0200
TZNAME:CEST
DTSTART:20250330T010000
END:DAYLIGHT
BEGIN:STANDARD
TZOFFSETFROM:+0200
TZOFFSETTO:+0100
TZNAME:CET
DTSTART:20251026T010000
END:STANDARD
END:VTIMEZONE
BEGIN:VEVENT
DTSTART;TZID=Europe/Paris:20250621T101500
DTEND;TZID=Europe/Paris:20250621T160000
DTSTAMP:20260426T054918
CREATED:20250126T181002Z
LAST-MODIFIED:20250522T121618Z
UID:5949-1750500900-1750521600@www.grainesdavenir.ch
SUMMARY:Jardiner en connexion avec la Nature - Cycle 2025
DESCRIPTION:Autre organisateur –> consultez le site internet de l’événement pour avoir toutes les infos et mises à jour.\n  \nEnvie de vous lancer ou d’approfondir vos connaissances dans le jardinage respectueux ? \nDe développer votre connexion avec la Nature et ses cycles et sa dimension énergétique et spirituelle? \nSoyez les bienvenu·e·s à ce cycle d’ateliers au fil des saisons qui ont lieu les samedis 21 juin\, 27 septembre et 6 décembre 2025 et 21 mars 2026 avec Tania Wiedmer et Véronique Spring. \n \nL’atelier est construit sur 4 volets qui forment un tout. Pour des raisons de cohérence et pour vivre l’intégralité du parcours avec le groupe nous vous invitons à participer à un cycle entier. \nAvec joie\, nous recevons vos inscriptions à : enconnexion_aufildessaisons@protonmail.com ou au : 079 652 24 20 jusqu’au 14 juin 2025. \n\n 
URL:https://www.grainesdavenir.ch/event/jardiner-en-connexion-avec-la-nature-cycle-2025/
LOCATION:Village de la Paix\, Chemin de Bouleyres 1\, Epagny\, 1663
CATEGORIES:Autre organisateur,Jardins
ORGANIZER;CN="En connexion Au fil des saison":MAILTO:enconnexion_aufildessaisons@protonmail.com
END:VEVENT
END:VCALENDAR